BEGIN:VCALENDAR
VERSION:2.0
PRODID:-//Auburn Meadows - ECPv6.15.20//NONSGML v1.0//EN
CALSCALE:GREGORIAN
METHOD:PUBLISH
X-ORIGINAL-URL:https://auburnmeadows.org
X-WR-CALDESC:Events for Auburn Meadows
REFRESH-INTERVAL;VALUE=DURATION:PT1H
X-Robots-Tag:noindex
X-PUBLISHED-TTL:PT1H
BEGIN:VTIMEZONE
TZID:America/Chicago
BEGIN:DAYLIGHT
TZOFFSETFROM:-0600
TZOFFSETTO:-0500
TZNAME:CDT
DTSTART:20230312T080000
END:DAYLIGHT
BEGIN:STANDARD
TZOFFSETFROM:-0500
TZOFFSETTO:-0600
TZNAME:CST
DTSTART:20231105T070000
END:STANDARD
BEGIN:DAYLIGHT
TZOFFSETFROM:-0600
TZOFFSETTO:-0500
TZNAME:CDT
DTSTART:20240310T080000
END:DAYLIGHT
BEGIN:STANDARD
TZOFFSETFROM:-0500
TZOFFSETTO:-0600
TZNAME:CST
DTSTART:20241103T070000
END:STANDARD
BEGIN:DAYLIGHT
TZOFFSETFROM:-0600
TZOFFSETTO:-0500
TZNAME:CDT
DTSTART:20250309T080000
END:DAYLIGHT
BEGIN:STANDARD
TZOFFSETFROM:-0500
TZOFFSETTO:-0600
TZNAME:CST
DTSTART:20251102T070000
END:STANDARD
BEGIN:DAYLIGHT
TZOFFSETFROM:-0600
TZOFFSETTO:-0500
TZNAME:CDT
DTSTART:20260308T080000
END:DAYLIGHT
BEGIN:STANDARD
TZOFFSETFROM:-0500
TZOFFSETTO:-0600
TZNAME:CST
DTSTART:20261101T070000
END:STANDARD
END:VTIMEZONE
BEGIN:VEVENT
DTSTART;TZID=America/Chicago:20250812T080000
DTEND;TZID=America/Chicago:20250812T170000
DTSTAMP:20260423T122253
CREATED:20250812T143147Z
LAST-MODIFIED:20250812T143147Z
UID:882-1754985600-1755018000@auburnmeadows.org
SUMMARY:Upcoming Events
DESCRIPTION:Quarterly HOA Meeting – Tuesday\, August 18th\, 2025 at 6:30PM. \nFall Garage Sale – September 26-27\, 2025
URL:https://auburnmeadows.org/calendar/upcoming-events/
END:VEVENT
BEGIN:VEVENT
DTSTART;TZID=America/Chicago:20241119T080000
DTEND;TZID=America/Chicago:20241119T170000
DTSTAMP:20260423T122253
CREATED:20240922T191707Z
LAST-MODIFIED:20240922T191707Z
UID:876-1732003200-1732035600@auburnmeadows.org
SUMMARY:Quarterly HOA Meeting Tuesday\, Nov. 19\, 2024
DESCRIPTION:The Quarterly HOA meeting will be held on Tuesday\, November 19\, 2024 at 6:30PM\, at the Clubhouse.
URL:https://auburnmeadows.org/calendar/quarterly-hoa-meeting-tuesday-nov-19-2024/
END:VEVENT
BEGIN:VEVENT
DTSTART;TZID=America/Chicago:20240928T080000
DTEND;TZID=America/Chicago:20240929T170000
DTSTAMP:20260423T122253
CREATED:20240922T191428Z
LAST-MODIFIED:20240922T191428Z
UID:874-1727510400-1727629200@auburnmeadows.org
SUMMARY:Neighborhood Garage Sale
DESCRIPTION:The Fall Neighborhood Garage Sale will be September 28-29\, 2024.  Signs will be placed at the entrance.  Homeowners are responsible for getting their own permits from the City of OKC.
URL:https://auburnmeadows.org/calendar/neighborhood-garage-sale/
END:VEVENT
END:VCALENDAR